BEGIN:VCALENDAR
VERSION:2.0
METHOD:PUBLISH
X-WR-CALNAME:Melbourne Vascular Surgery Association |  June 09 2008- June 16 2008
PRODID:-//strange bird labs//Drupal iCal API//EN
BEGIN:VEVENT
DTSTAMP;VALUE=DATE-TIME:20190228T184312Z
DTSTART;VALUE=DATE-TIME:20080611T083000Z
DTEND;VALUE=DATE-TIME:20080611T103000Z
UID:http://www.mvsa.org.au/node/7
URL;VALUE=URI:http://www.mvsa.org.au/node/7
SUMMARY:MVSA Education Meeting
DESCRIPTION:<p>MVSA Education Meeting at St Vincent's Hospital<br />
 Level 3\, Healy Wing\, St V's Education Centre off Victoria Parade<br />
 Topics - Vascular Reconstruction in Sarcoma Surgery / Neck Morphology in EVAR<br />
 Time\: 6.30pm for Drinks &amp\; Nibbles\, 7.00pm Start</p>
 
END:VEVENT
END:VCALENDAR
