BEGIN:VCALENDAR
VERSION:2.0
METHOD:PUBLISH
X-WR-CALNAME:Melbourne Vascular Surgery Association |  November 15 2008- December 15 2008
PRODID:-//strange bird labs//Drupal iCal API//EN
BEGIN:VEVENT
DTSTAMP;VALUE=DATE-TIME:20190228T184225Z
DTSTART;VALUE=DATE-TIME:20081114T223000Z
DTEND;VALUE=DATE-TIME:20081115T000300Z
UID:http://www.mvsa.org.au/node/8
URL;VALUE=URI:http://www.mvsa.org.au/node/8
SUMMARY:MVSA Education Meeting
DESCRIPTION:<p>15th November 2008<br />
 Frankston Hospital Presentation<br />
 Location\: Council Room\, RACS<br />
 Topics\: TBA<br />
 Time\: 8.30-10.00am<br />
 <strong>To Be Confirmed</strong></p>
 
END:VEVENT
END:VCALENDAR
