BEGIN:VCALENDAR
VERSION:2.0
METHOD:PUBLISH
X-WR-CALNAME:Melbourne Vascular Surgery Association |  April 29 2009- May 29 2009
PRODID:-//strange bird labs//Drupal iCal API//EN
BEGIN:VEVENT
DTSTAMP;VALUE=DATE-TIME:20190228T183939Z
DTSTART;VALUE=DATE-TIME:20090429T083000Z
DTEND;VALUE=DATE-TIME:20090429T083000Z
UID:http://www.mvsa.org.au/node/30
URL;VALUE=URI:http://www.mvsa.org.au/node/30
SUMMARY:MVSA Education Meeting
DESCRIPTION:<p>RMH Presentation on Vascular Trauma.</p>
 
END:VEVENT
END:VCALENDAR
