BEGIN:VCALENDAR
VERSION:2.0
METHOD:PUBLISH
X-WR-CALNAME:Melbourne Vascular Surgery Association |  June 15 2009- June 22 2009
PRODID:-//strange bird labs//Drupal iCal API//EN
BEGIN:VEVENT
DTSTAMP;VALUE=DATE-TIME:20190228T183432Z
DTSTART;VALUE=DATE-TIME:20090619T223000Z
DTEND;VALUE=DATE-TIME:20020203
UID:http://www.mvsa.org.au/node/38
URL;VALUE=URI:http://www.mvsa.org.au/node/38
SUMMARY:Cook Endoluminaries Meeting
DESCRIPTION:<p>The Cook Medical Victoria Endoluminaries will be held at the Grand Hyatt\, 123 Collins St\, Melbourne on 20th June 2009 at 8\:30am. Contact your Cook Representative for more information or to RSVP.</p>
 
END:VEVENT
END:VCALENDAR
