BEGIN:VCALENDAR
VERSION:2.0
METHOD:PUBLISH
X-WR-CALNAME:Melbourne Vascular Surgery Association |  July 29 2009- August 28 2009
PRODID:-//strange bird labs//Drupal iCal API//EN
BEGIN:VEVENT
DTSTAMP;VALUE=DATE-TIME:20190228T183332Z
DTSTART;VALUE=DATE-TIME:20090729T000000Z
DTEND;VALUE=DATE-TIME:20090731T100000Z
UID:http://www.mvsa.org.au/node/40
URL;VALUE=URI:http://www.mvsa.org.au/node/40
SUMMARY:General Surgery Trainee Workshop & Vascular Surgery Day (WA)
DESCRIPTION:<p>&nbsp\;</p>
 <p class=\\"MsoNormal\\"><b><u><span lang=\\"EN-US\\">29- 31 July 2009<span>&nbsp\;</span>Workshop information\:</span></u></b><span lang=\\"EN-US\\"><br />
 This General Surgery Trainee Workshop with an optional third day involving Vascular Surgery provides trainees the opportunity to be taught new skills in a range of different procedures.</p>
 <p>As the workshop&nbsp\;<b><u>runs over 3 days</u></b>&nbsp\;- the 29<sup>th</sup>\, 30<sup>th</sup>&nbsp\;and 31<sup>st</sup>&nbsp\;of July\;&nbsp\;<b>there will be 3 attendance packages offered - 1 day\, any 2 days\, or 3 full days.</b></span></p>
 
END:VEVENT
BEGIN:VEVENT
DTSTAMP;VALUE=DATE-TIME:20190228T183332Z
DTSTART;VALUE=DATE-TIME:20090818T010000Z
DTEND;VALUE=DATE-TIME:20090818T010000Z
UID:http://www.mvsa.org.au/content/mvsa-20078-mvsqi-annual-report-release
URL;VALUE=URI:http://www.mvsa.org.au/content/mvsa-20078-mvsqi-annual-report-release
SUMMARY:MVSA 2007/8 MVSQI Annual Report Release
DESCRIPTION:<p>MVSA INVITATION</p>
 <p>On behalf of the Melbourne Vascular Surgical Association\, we are pleased to announce the release of our 2007/8 MVSQI annual report.</p>
 <p>The Management Committee anticipates that you’ll find the report informative.</p>
 <p>As this is a MVSA initiated activity for the Vascular Surgeons in Victoria we will value your feedback on any issues you perceive important.</p>
 <p>To celebrate this milestone there will be a gathering of all the key stakeholders to share the achievements and to acknowledge the end of one era and the commencement of new future directions.</p>
 
END:VEVENT
BEGIN:VEVENT
DTSTAMP;VALUE=DATE-TIME:20190228T183332Z
DTSTART;VALUE=DATE-TIME:20090818T010000Z
DTEND;VALUE=DATE-TIME:20090818T010000Z
UID:http://www.mvsa.org.au/content/mvsqi-annual-report-launch
URL;VALUE=URI:http://www.mvsa.org.au/content/mvsqi-annual-report-launch
SUMMARY:MVSQI Annual Report Launch
DESCRIPTION:<p>MVSA INVITATION</p>
 <p>On behalf of the Melbourne Vascular Surgical Association\, we are pleased to announce the release of our 2007/8 MVSQI annual report.</p>
 <p>The Management Committee anticipates that you’ll find the report informative.</p>
 <p>As this is a MVSA initiated activity for the Vascular Surgeons in Victoria we will value your feedback on any issues you perceive important.</p>
 <p>To celebrate this milestone there will be a gathering of all the key stakeholders to share the achievements and to acknowledge the end of one era and the commencement of new future directions. </p>
 <p>Come and join us</p>
 
END:VEVENT
END:VCALENDAR
