BEGIN:VCALENDAR
VERSION:2.0
METHOD:PUBLISH
X-WR-CALNAME:Melbourne Vascular Surgery Association |  August 31 2009- September 07 2009
PRODID:-//strange bird labs//Drupal iCal API//EN
BEGIN:VEVENT
DTSTAMP;VALUE=DATE-TIME:20190228T182730Z
DTSTART;VALUE=DATE-TIME:20090903T070000Z
DTEND;VALUE=DATE-TIME:20090906T170000Z
UID:http://www.mvsa.org.au/node/37
URL;VALUE=URI:http://www.mvsa.org.au/node/37
SUMMARY:ESVS Meeting 2009
DESCRIPTION:<p><b>European Society of Vascular Surgery Annual Meeting<br />
 Oslo\, 3-6 September 2009</b></p>
 <p>Welcome to Oslo for the ESVS 2009 Meeting!<br />
 On behalf of the ESVS administration and Local Organising Committee (LOC) we wish all of you heartily welcome to Oslo and the XXIII ESVS annual meeting of the European Society for Vascular Surgery. The event will take place at the Radisson SAS Plaza Hotel during the period 3-6 September 2009.</p>
 <p><a href=\\"http\://www.esvs.org/?vis=28\\">More Information ...</a></p>
 
END:VEVENT
END:VCALENDAR
