BEGIN:VCALENDAR
VERSION:2.0
METHOD:PUBLISH
X-WR-CALNAME:Melbourne Vascular Surgery Association |  October 14 2009- November 13 2009
PRODID:-//strange bird labs//Drupal iCal API//EN
BEGIN:VEVENT
DTSTAMP;VALUE=DATE-TIME:20190228T181918Z
DTSTART;VALUE=DATE-TIME:20091013T230000Z
DTEND;VALUE=DATE-TIME:20091017T080000Z
UID:http://www.mvsa.org.au/content/asian-society-vascular-surgery-meeting-2009
URL;VALUE=URI:http://www.mvsa.org.au/content/asian-society-vascular-surgery-meeting-2009
SUMMARY:Asian Society for Vascular Surgery Meeting 2009
DESCRIPTION:<p>10th annual congress of the Asian Society for Vascular Surgery is being held in Busan\, Korea between October 14-17th.</p>
 <p>More Information\: <a href=\\"http\://asvs2009.inforang.com/\\" title=\\"http\://asvs2009.inforang.com/\\">http\://asvs2009.inforang.com/</a></p>
 
END:VEVENT
BEGIN:VEVENT
DTSTAMP;VALUE=DATE-TIME:20190228T181918Z
DTSTART;VALUE=DATE-TIME:20091022T220000Z
DTEND;VALUE=DATE-TIME:20091025T080000Z
UID:http://www.mvsa.org.au/node/35
URL;VALUE=URI:http://www.mvsa.org.au/node/35
SUMMARY:RACS Victorian AGSFM
DESCRIPTION:<p><b>Vic AGSFM Lorne 2009<br />
 Training\, Working\, Living...finding the balance</b></p>
 
END:VEVENT
BEGIN:VEVENT
DTSTAMP;VALUE=DATE-TIME:20190228T181918Z
DTSTART;VALUE=DATE-TIME:20091029T030000Z
DTEND;VALUE=DATE-TIME:20091101T120000Z
UID:http://www.mvsa.org.au/content/vascular-society-india-meeting-2009
URL;VALUE=URI:http://www.mvsa.org.au/content/vascular-society-india-meeting-2009
SUMMARY:Vascular Society of India Meeting 2009
DESCRIPTION:<p>The Vascular Society of India Meeting</p>
 <p>Date\: Oct 29 to Nov 01\, 2009<br />
 Venue\:Hyderabad\, India<br />
 Organizing Secretary\: Dr. Prem Chand Gupta</p>
 <p>email\: <a href=\\"mailto\:vsicon2009@gmail.com\\">vsicon2009@gmail.com</a><br />
 website\: <a href=\\"http\://www.vsicon2009.com\\" title=\\"www.vsicon2009.com\\">www.vsicon2009.com</a></p>
 
END:VEVENT
END:VCALENDAR
