BEGIN:VCALENDAR
VERSION:2.0
METHOD:PUBLISH
X-WR-CALNAME:Melbourne Vascular Surgery Association |  October 29 2009- November 28 2009
PRODID:-//strange bird labs//Drupal iCal API//EN
BEGIN:VEVENT
DTSTAMP;VALUE=DATE-TIME:20190228T182413Z
DTSTART;VALUE=DATE-TIME:20091029T030000Z
DTEND;VALUE=DATE-TIME:20091101T120000Z
UID:http://www.mvsa.org.au/content/vascular-society-india-meeting-2009
URL;VALUE=URI:http://www.mvsa.org.au/content/vascular-society-india-meeting-2009
SUMMARY:Vascular Society of India Meeting 2009
DESCRIPTION:<p>The Vascular Society of India Meeting</p>
 <p>Date\: Oct 29 to Nov 01\, 2009<br />
 Venue\:Hyderabad\, India<br />
 Organizing Secretary\: Dr. Prem Chand Gupta</p>
 <p>email\: <a href=\\"mailto\:vsicon2009@gmail.com\\">vsicon2009@gmail.com</a><br />
 website\: <a href=\\"http\://www.vsicon2009.com\\" title=\\"www.vsicon2009.com\\">www.vsicon2009.com</a></p>
 
END:VEVENT
BEGIN:VEVENT
DTSTAMP;VALUE=DATE-TIME:20190228T182413Z
DTSTART;VALUE=DATE-TIME:20091113T223000Z
DTEND;VALUE=DATE-TIME:20091114T000000Z
UID:http://www.mvsa.org.au/node/32
URL;VALUE=URI:http://www.mvsa.org.au/node/32
SUMMARY:MVSA Education Meeting (Box Hill)
DESCRIPTION:<p>This Education Meeting will be hosted by the Box Hill Vascular Surgery Unit.</p>
 
END:VEVENT
BEGIN:VEVENT
DTSTAMP;VALUE=DATE-TIME:20190228T182413Z
DTSTART;VALUE=DATE-TIME:20091118T130000Z
DTEND;VALUE=DATE-TIME:20091122T230000Z
UID:http://www.mvsa.org.au/node/34
URL;VALUE=URI:http://www.mvsa.org.au/node/34
SUMMARY:Veith Symposium 2009
DESCRIPTION:<p><a href=\\"http\://www.veithsymposium.org/index.php\\">VEITHsymposium</a></p>
 <p><b>36th Annual Symposium on Vascular and Endovascular Issues</b></p>
 
END:VEVENT
END:VCALENDAR
