BEGIN:VCALENDAR
VERSION:2.0
METHOD:PUBLISH
X-WR-CALNAME:Melbourne Vascular Surgery Association |  March 01 2010- March 08 2010
PRODID:-//strange bird labs//Drupal iCal API//EN
BEGIN:VEVENT
DTSTAMP;VALUE=DATE-TIME:20190228T181534Z
DTSTART;VALUE=DATE-TIME:20100305T134900Z
DTEND;VALUE=DATE-TIME:20020203
UID:http://www.mvsa.org.au/content/vascular-interventions-2010
URL;VALUE=URI:http://www.mvsa.org.au/content/vascular-interventions-2010
SUMMARY:Vascular Interventions 2010
DESCRIPTION:<p>Industry related Surgeons\, Interventionists\, Nurses\, Sonographers\,<br />
 Cardiologists\,  Radiographers\, Phlebologists and Trainees</p>
 <p>Vascular Interventions 2010 will be held on 5-6 March 2010</p>
 <p><b>International Guest Confirmed<br />
 Andrej Schmidt - Sponsored by Biotronik. </b><br />
 <a href=\\"http\://www.vi2010.com/guest-andrej-schmidt/\\" title=\\"http\://www.vi2010.com/guest-andrej-schmidt/\\">http\://www.vi2010.com/guest-andrej-schmidt/</a></p>
 <p>Crowne Plaza Hotel TERRIGAL PINE TREE LANE. TERRIGAL\, 2260 AUSTRALIA<br />
 Dates are 5-6 March 2010\, Pre-Conference Workshop day before.</p>
 <p>Live transmissions will be conducted from Lake Macquarie Private Hospital</p>
 <p>For further information or to Register Online go to</p>
 
END:VEVENT
BEGIN:VEVENT
DTSTAMP;VALUE=DATE-TIME:20190228T181534Z
DTSTART;VALUE=DATE-TIME:20100306T134500Z
DTEND;VALUE=DATE-TIME:20020203
UID:http://www.mvsa.org.au/content/anzsp-vein-treatment-2010
URL;VALUE=URI:http://www.mvsa.org.au/content/anzsp-vein-treatment-2010
SUMMARY:ANZSP Vein Treatment 2010
DESCRIPTION:<p>The Australia and New Zealand Society of Phlebology invites you to attend<br />
 <b>Vein Treatment 2010</b><br />
 to be held at Crowne Plaza Hotel<br />
 Pine Tree Lane\, Terrigal NSW 2260<br />
 On 6-7 March 2010</p>
 <p>Expert medical practitioners will discuss and demonstrate\:</p>
 <ul>
 <li>Surgical and non-surgical treatment of varicose veins.
 </li>
 <li>The use of laser\, ambulatory phlebectomy\, ultrasound guided<br />
 injection techniques\, conventional sclerotherapy and<br />
 microsclerotherapy in the treatment of venous disease.
 </li>
 <li>The use of Duplex ultrasound at the point of care in the diagnosis<br />
 and treatment of venous disease.</li>
 </ul>
 
END:VEVENT
END:VCALENDAR
