BEGIN:VCALENDAR
VERSION:2.0
METHOD:PUBLISH
X-WR-CALNAME:Melbourne Vascular Surgery Association |  March 22 2010- March 29 2010
PRODID:-//strange bird labs//Drupal iCal API//EN
BEGIN:VEVENT
DTSTAMP;VALUE=DATE-TIME:20190228T182949Z
DTSTART;VALUE=DATE-TIME:20100323T213000Z
DTEND;VALUE=DATE-TIME:20020203
UID:http://www.mvsa.org.au/content/adelaide-vascular-trials
URL;VALUE=URI:http://www.mvsa.org.au/content/adelaide-vascular-trials
SUMMARY:Adelaide Vascular Trials
DESCRIPTION:<p>Adelaide Vascular Trials program\, 2010. 24th to 27th March.</p>
 <p>More Information\: <a href=\\"http\://www.avt-aus.com\\" title=\\"www.avt-aus.com\\">www.avt-aus.com</a></p>
 
END:VEVENT
END:VCALENDAR
