BEGIN:VCALENDAR
VERSION:2.0
METHOD:PUBLISH
X-WR-CALNAME:Melbourne Vascular Surgery Association |  March 24 2010- April 23 2010
PRODID:-//strange bird labs//Drupal iCal API//EN
BEGIN:VEVENT
DTSTAMP;VALUE=DATE-TIME:20190228T183030Z
DTSTART;VALUE=DATE-TIME:20100323T213000Z
DTEND;VALUE=DATE-TIME:20020203
UID:http://www.mvsa.org.au/content/adelaide-vascular-trials
URL;VALUE=URI:http://www.mvsa.org.au/content/adelaide-vascular-trials
SUMMARY:Adelaide Vascular Trials
DESCRIPTION:<p>Adelaide Vascular Trials program\, 2010. 24th to 27th March.</p>
 <p>More Information\: <a href=\\"http\://www.avt-aus.com\\" title=\\"www.avt-aus.com\\">www.avt-aus.com</a></p>
 
END:VEVENT
BEGIN:VEVENT
DTSTAMP;VALUE=DATE-TIME:20190228T183030Z
DTSTART;VALUE=DATE-TIME:20100410T080000Z
DTEND;VALUE=DATE-TIME:20020203
UID:http://www.mvsa.org.au/content/cx-symposium-2010
URL;VALUE=URI:http://www.mvsa.org.au/content/cx-symposium-2010
SUMMARY:Cx Symposium 2010
DESCRIPTION:<p>Cx Charing Cross Symposium 2010</p>
 
END:VEVENT
BEGIN:VEVENT
DTSTAMP;VALUE=DATE-TIME:20190228T183030Z
DTSTART;VALUE=DATE-TIME:20100414T090000Z
DTEND;VALUE=DATE-TIME:20100414T090000Z
UID:http://www.mvsa.org.au/content/mvsa-education-meeting-april-2010
URL;VALUE=URI:http://www.mvsa.org.au/content/mvsa-education-meeting-april-2010
SUMMARY:MVSA Education Meeting - April 2010
DESCRIPTION:<p>The next Education is scheduled for Wednesday evening on the 14th of April\, to be presented by the Austin hospital.<br />
 It will be held in the Council room at the College\, with finger food (and a chance to catch up with colleagues) starting at 7\:00pm and presentations between 7\:30 and 9\:00pm.</p>
 <p>The three topics for the night will be\:</p>
 <p>- Foam Sclerotherapy\: a public disservice or service\;   Peter Chu</p>
 <p>- Simulation \, an aid to endovascular therapy\; Simon Neequaye</p>
 <p>- Carotid Intervention\; which patient &amp\; when \: a neurologists current perspective\;  Helen Dewey</p>
 
END:VEVENT
END:VCALENDAR
