BEGIN:VCALENDAR
VERSION:2.0
METHOD:PUBLISH
X-WR-CALNAME:Melbourne Vascular Surgery Association |  May 03 2010- June 02 2010
PRODID:-//strange bird labs//Drupal iCal API//EN
BEGIN:VEVENT
DTSTAMP;VALUE=DATE-TIME:20190228T180620Z
DTSTART;VALUE=DATE-TIME:20100503T000000Z
DTEND;VALUE=DATE-TIME:20020203
UID:http://www.mvsa.org.au/content/racs-perth-asc-2010
URL;VALUE=URI:http://www.mvsa.org.au/content/racs-perth-asc-2010
SUMMARY:RACS Perth ASC 2010
DESCRIPTION:<p><b>79th Annual Scientific Congress<br />
 Royal Australasian College of Surgeons<br />
 4 – 7 May 2010<br />
 Perth Convention Exhibition Centre<br />
 Perth\, WA\, Australia<br />
 Website\: <a href=\\"http\://asc.surgeons.org\\" title=\\"http\://asc.surgeons.org\\">http\://asc.surgeons.org</a><br />
 Email\: <a href=\\"mailto\:asc.registration@surgeons.org\\">asc.registration@surgeons.org</a><br />
 T\: +61 3 9249 1273<br />
 F\: +61 3 9276 7431<br />
 </b></p>
 <p>The Perth Conference Exhibition Centre (PCEC) is the venue for the 2010 Annual Scientific Congress. PCEC is situated on Mounts Bay Road overlooking the beautiful Swan Estuary.</p>
 
END:VEVENT
END:VCALENDAR
