BEGIN:VCALENDAR
VERSION:2.0
METHOD:PUBLISH
X-WR-CALNAME:Melbourne Vascular Surgery Association |  June 29 2010- July 29 2010
PRODID:-//strange bird labs//Drupal iCal API//EN
BEGIN:VEVENT
DTSTAMP;VALUE=DATE-TIME:20190228T181035Z
DTSTART;VALUE=DATE-TIME:20100628T184100Z
DTEND;VALUE=DATE-TIME:20020203
UID:http://www.mvsa.org.au/content/asian-society-vascular-surgery-combined-wfvs-meeting-2010
URL;VALUE=URI:http://www.mvsa.org.au/content/asian-society-vascular-surgery-combined-wfvs-meeting-2010
SUMMARY:Asian Society of Vascular Surgery (Combined WFVS Meeting) 2010
DESCRIPTION:<p>
 	&nbsp\;</p>
 <p>
 	<font class=\\"Apple-style-span\\" size=\\"6\\"><span class=\\"Apple-style-span\\"><b>ASVS + WFVS Congress Information</b></span></font></p>
 <p>
 	&nbsp\;</p>
 
END:VEVENT
END:VCALENDAR
