BEGIN:VCALENDAR
VERSION:2.0
METHOD:PUBLISH
X-WR-CALNAME:Melbourne Vascular Surgery Association |  September 16 2010- October 16 2010
PRODID:-//strange bird labs//Drupal iCal API//EN
BEGIN:VEVENT
DTSTAMP;VALUE=DATE-TIME:20190228T182129Z
DTSTART;VALUE=DATE-TIME:20100916T070000Z
DTEND;VALUE=DATE-TIME:20020203
UID:http://www.mvsa.org.au/content/european-society-vascular-surgery-annual-meeting-2010
URL;VALUE=URI:http://www.mvsa.org.au/content/european-society-vascular-surgery-annual-meeting-2010
SUMMARY:European Society of Vascular Surgery Annual Meeting 2010
DESCRIPTION:<p>Amsterdam 16-19 September 2010</p>
 <p>More info\: <a href=\\"http\://www.esvs.org/?vis=28\\" title=\\"http\://www.esvs.org/?vis=28\\">http\://www.esvs.org/?vis=28</a></p>
 
END:VEVENT
BEGIN:VEVENT
DTSTAMP;VALUE=DATE-TIME:20190228T182129Z
DTSTART;VALUE=DATE-TIME:20100923T135300Z
DTEND;VALUE=DATE-TIME:20020203
UID:http://www.mvsa.org.au/content/asum-annual-scientific-congress
URL;VALUE=URI:http://www.mvsa.org.au/content/asum-annual-scientific-congress
SUMMARY:ASUM Annual Scientific Congress
DESCRIPTION:<p>
 	&nbsp\;</p>
 
END:VEVENT
BEGIN:VEVENT
DTSTAMP;VALUE=DATE-TIME:20190228T182129Z
DTSTART;VALUE=DATE-TIME:20101001T220000Z
DTEND;VALUE=DATE-TIME:20020203
UID:http://www.mvsa.org.au/content/anzsvs-vascular-2010
URL;VALUE=URI:http://www.mvsa.org.au/content/anzsvs-vascular-2010
SUMMARY:ANZSVS Vascular 2010
DESCRIPTION:<p>Invitation to Vascular 2010</p>
 
END:VEVENT
END:VCALENDAR
